BEGIN:VCALENDAR
VERSION:2.0
PRODID:< http://www.open2c.de/ >
METHOD:PUBLISH
X-PUBLISHED-TTL:PT12H
BEGIN:VEVENT
CREATED:20250203T170643Z
LAST-MODIFIED:20250203T171423Z
ORGANIZER;CN="TSV Rudelzhausen"
DTSTAMP:20260424T183254Z
DTSTART:20250528T220000Z
DTEND:20250531T220000Z
CATEGORIES:öffentliche Veranstaltung
SUMMARY:48. Volksfest Rudelzhausen
DESCRIPTION:Auch das 48. Volksfest in Rudelzhausen beginnt wieder am "Vater
	tag" und endet am Sonntag darauf. Das Programm des Volksfestes wird im Fr
	ühjahr 2025 veröffentlicht. Organisator TSV Rudelzhausen
LOCATION:Volksfestwiese Rudelzhausen
UID:a009dec54aaf76d5561939d0d0ea0163@011ea7715d8894e3c015d7679d54b8eb
END:VEVENT
BEGIN:VEVENT
CREATED:20250525T080844Z
LAST-MODIFIED:20250525T081236Z
DTSTAMP:20260424T183254Z
DTSTART;VALUE=DATE:20260424
CATEGORIES:öffentliche Veranstaltung
SUMMARY:Teilnahme an der Gedächtnisfeier auf St.Anton in Ratzenhofen
DESCRIPTION:Die KSK Rudelzhausen nimmt am 9. Juni 2025 an der Gedächtnisfe
	ier teil
LOCATION:Ratzenhofen
UID:676dd169fb9c867bca0850509faeeaab@011ea7715d8894e3c015d7679d54b8eb
END:VEVENT
END:VCALENDAR