BEGIN:VCALENDAR
VERSION:2.0
PRODID:< http://www.open2c.de/ >
METHOD:PUBLISH
X-PUBLISHED-TTL:PT12H
BEGIN:VEVENT
CREATED:20260319T145623Z
LAST-MODIFIED:20260319T150228Z
ORGANIZER;CN="Das Amt für Ernährung\, Landwirtschaft und Forsten Ebersberg-Erding bietet wieder kostenfreie Online-Vorträge im Rahmen des Netzwerk Generation 55plus an.\nReferentin: Jutta Löbert\, Dipl.oec.troph.":MAILTO:Anmeldung bis 3 Tage zuvor unter vhs@hallbergmoos.de oder unter 0811/5522317\; der Link für das Online-Seminar wird Ihnen ca. 1 Tag vor dem Seminar zugeschickt.
DTSTAMP:20260420T081746Z
DTSTART:20260422T163000Z
DTEND:20260422T180000Z
CATEGORIES:Vorträge
URL:www.weiterbildung.bayern.de
SUMMARY:Genussvoll essen\, das Herz stärken - Online
DESCRIPTION:Herz und Gefäßen etwas Gutes tun - das ist leichter als Sie d
	enken! Neben regelmäßiger Bewegung ist eine ausgewogene Ernährung dabei
	 ganz entscheidend. Doch was sind die Besonderheiten einer "herzgesunden" 
	Ernährung? Welche Lebensmittel spielen eine Rolle? Und wie gelingt ein he
	rzfreundlicher Lebensstil im Alltag? Antworten erhalten Sie in dieser Vera
	nstaltung.       Organisator Das Amt für Ernährung\, Landwirtschaft un
	d Forsten Ebersberg-Erding bietet wieder kostenfreie Online-Vorträge im R
	ahmen des Netzwerk Generation 55plus an. Referentin: Jutta Löbert\, Dipl.o
	ec.troph. Kontakt Anmeldung bis 3 Tage zuvor unter vhs@hallbergmoos.de ode
	r unter 0811/5522317\; der Link für das Online-Seminar wird Ihnen ca. 1 Ta
	g vor dem Seminar zugeschickt.
LOCATION:Online-Seminar (der Link wird Ihnen nach der Anmeldung zugeschickt)
UID:55fecf75063a34e791b4a41bfce1b60d@011ea7715d8894e3c015d7679d54b8eb
END:VEVENT
BEGIN:VEVENT
CREATED:20260319T142708Z
LAST-MODIFIED:20260319T143054Z
ORGANIZER;CN="Das Amt für Ernährung\, Landwirtschaft und Forsten Ebersberg-Erding bietet wieder kostenfreie Online-Vorträge im Rahmen des Netzwerk Generation 55plus an.\nReferentin: Jutta Löbert\, Dipl.oec.troph.":MAILTO:Anmeldung bis 3 Tage zuvor unter vhs@halbergmoos.de oder unter 0811/5522317\; der Link für das Online-Seminar wird Ihnen ca. 1 Tag vor dem Seminar zugeschickt.
DTSTAMP:20260420T081746Z
DTSTART:20260429T163000Z
DTEND:20260429T180000Z
CATEGORIES:Vorträge
URL:www.weiterbildung.bayern.de
SUMMARY:Knochenstark essen – mitten im Leben - Online
DESCRIPTION:Im Laufe des Lebens nehmen Festigkeit und Stabilität der Knoch
	en ab\, das Risiko für Osteoporose steigt. Mit einer ausgewogenen\, calcium
	reichen Ernährung und gezielter Bewegung können Sie jedoch etwas dagegen
	 tun! Was genau es zu beachten gilt\, welche Lebensmittel eine besondere Ro
	lle spielen und wie eine „knochenstarke“ Ernährung ganz leicht im All
	tag gelingt\, das erfahren Sie in diesem Angebot.       Organisator Das 
	Amt für Ernährung\, Landwirtschaft und Forsten Ebersberg-Erding bietet wi
	eder kostenfreie Online-Vorträge im Rahmen des Netzwerk Generation 55plus
	 an. Referentin: Jutta Löbert\, Dipl.oec.troph. Kontakt Anmeldung bis 3 Ta
	ge zuvor unter vhs@halbergmoos.de oder unter 0811/5522317\; der Link für d
	as Online-Seminar wird Ihnen ca. 1 Tag vor dem Seminar zugeschickt.
LOCATION:Online-Seminar (der Link wird Ihnen nach der Anmeldung zugeschickt)
UID:b73700da048bcb5e43c5f7c460967d2e@011ea7715d8894e3c015d7679d54b8eb
END:VEVENT
END:VCALENDAR